BEGIN:VCALENDAR
VERSION:2.0
PRODID:-//La Central - El Centro del Ritmo - ECPv6.15.20//NONSGML v1.0//EN
CALSCALE:GREGORIAN
METHOD:PUBLISH
X-WR-CALNAME:La Central - El Centro del Ritmo
X-ORIGINAL-URL:https://lacentraldiscoteca.com
X-WR-CALDESC:Events for La Central - El Centro del Ritmo
REFRESH-INTERVAL;VALUE=DURATION:PT1H
X-Robots-Tag:noindex
X-PUBLISHED-TTL:PT1H
BEGIN:VTIMEZONE
TZID:UTC
BEGIN:STANDARD
TZOFFSETFROM:+0000
TZOFFSETTO:+0000
TZNAME:UTC
DTSTART:20270101T000000
END:STANDARD
END:VTIMEZONE
BEGIN:VEVENT
DTSTART;TZID=UTC:20280407T230000
DTEND;TZID=UTC:20280408T060000
DTSTAMP:20260419T134259
CREATED:20260402T115903Z
LAST-MODIFIED:20260402T115903Z
UID:10004261-1838761200-1838786400@lacentraldiscoteca.com
SUMMARY:Sal y Perrea
DESCRIPTION:📅 Cada Viernes 23.00h – 06.00h \n📍 La Central \n🎟️ Entradas Early Bird – Haz clic aquí \nSal y Perrea  \nTodos los viernes\, Sal y Perrea es una gran fiesta. Reggaetón\, Afrohouse\, Latin house—sin pausas\, potente y continua. Los DJs saben lo que ponen\, saben cómo mantener la noche en movimiento sin concesiones. \nEl sonido es impecable\, la iluminación precisa\, todo pensado para que la música hable por sí sola. Sin distracciones\, sin artificios\, solo la noche. \nEs para quienes vienen a vivir la música\, a perderse en el momento y dejarse llevar. Cada track conecta con el siguiente. Cada viernes\, la noche se construye y sigue su curso. \nSal y Perrea no se monta ni se explica. Se vive. Las puertas se abren\, empieza el primer track y la noche se adueña del espacio. Es el lugar perfecto para arrancar el fin de semana\, la fiesta que siempre cumple\, todos los viernes. \nSi buscas una noche donde todo encaje—DJs\, música\, gente—Sal y Perrea es tu sitio. Es simple. Es real. Es una gran fiesta. \nReserva VIP: Date un lujo y reserva VIP en la mejor discoteca de Playa de las Américas.
URL:https://lacentraldiscoteca.com/events/sal-y-perrea/2028-04-07/
LOCATION:La Central Disco\, Centro Comercial Starco\, Avenida Arquitecto Gómez Cuesta\, Playa de las Americas\, Arona\, Santa Cruz de Tenerife\, 38660\, Spain
CATEGORIES:Sal y Perrea
ATTACH;FMTTYPE=image/png:https://lacentraldiscoteca.com/wp-content/uploads/2026/04/file_0000000079f07246a2af648e3e76aa72.png
ORGANIZER;CN="La Central":MAILTO:Lacentral.elcentrodelritmo@gmail.com
END:VEVENT
BEGIN:VEVENT
DTSTART;TZID=UTC:20280414T230000
DTEND;TZID=UTC:20280415T060000
DTSTAMP:20260419T134259
CREATED:20260402T115903Z
LAST-MODIFIED:20260402T115903Z
UID:10004262-1839366000-1839391200@lacentraldiscoteca.com
SUMMARY:Sal y Perrea
DESCRIPTION:📅 Cada Viernes 23.00h – 06.00h \n📍 La Central \n🎟️ Entradas Early Bird – Haz clic aquí \nSal y Perrea  \nTodos los viernes\, Sal y Perrea es una gran fiesta. Reggaetón\, Afrohouse\, Latin house—sin pausas\, potente y continua. Los DJs saben lo que ponen\, saben cómo mantener la noche en movimiento sin concesiones. \nEl sonido es impecable\, la iluminación precisa\, todo pensado para que la música hable por sí sola. Sin distracciones\, sin artificios\, solo la noche. \nEs para quienes vienen a vivir la música\, a perderse en el momento y dejarse llevar. Cada track conecta con el siguiente. Cada viernes\, la noche se construye y sigue su curso. \nSal y Perrea no se monta ni se explica. Se vive. Las puertas se abren\, empieza el primer track y la noche se adueña del espacio. Es el lugar perfecto para arrancar el fin de semana\, la fiesta que siempre cumple\, todos los viernes. \nSi buscas una noche donde todo encaje—DJs\, música\, gente—Sal y Perrea es tu sitio. Es simple. Es real. Es una gran fiesta. \nReserva VIP: Date un lujo y reserva VIP en la mejor discoteca de Playa de las Américas.
URL:https://lacentraldiscoteca.com/events/sal-y-perrea/2028-04-14/
LOCATION:La Central Disco\, Centro Comercial Starco\, Avenida Arquitecto Gómez Cuesta\, Playa de las Americas\, Arona\, Santa Cruz de Tenerife\, 38660\, Spain
CATEGORIES:Sal y Perrea
ATTACH;FMTTYPE=image/png:https://lacentraldiscoteca.com/wp-content/uploads/2026/04/file_0000000079f07246a2af648e3e76aa72.png
ORGANIZER;CN="La Central":MAILTO:Lacentral.elcentrodelritmo@gmail.com
END:VEVENT
BEGIN:VEVENT
DTSTART;TZID=UTC:20280421T230000
DTEND;TZID=UTC:20280422T060000
DTSTAMP:20260419T134300
CREATED:20260402T115903Z
LAST-MODIFIED:20260402T115903Z
UID:10004263-1839970800-1839996000@lacentraldiscoteca.com
SUMMARY:Sal y Perrea
DESCRIPTION:📅 Cada Viernes 23.00h – 06.00h \n📍 La Central \n🎟️ Entradas Early Bird – Haz clic aquí \nSal y Perrea  \nTodos los viernes\, Sal y Perrea es una gran fiesta. Reggaetón\, Afrohouse\, Latin house—sin pausas\, potente y continua. Los DJs saben lo que ponen\, saben cómo mantener la noche en movimiento sin concesiones. \nEl sonido es impecable\, la iluminación precisa\, todo pensado para que la música hable por sí sola. Sin distracciones\, sin artificios\, solo la noche. \nEs para quienes vienen a vivir la música\, a perderse en el momento y dejarse llevar. Cada track conecta con el siguiente. Cada viernes\, la noche se construye y sigue su curso. \nSal y Perrea no se monta ni se explica. Se vive. Las puertas se abren\, empieza el primer track y la noche se adueña del espacio. Es el lugar perfecto para arrancar el fin de semana\, la fiesta que siempre cumple\, todos los viernes. \nSi buscas una noche donde todo encaje—DJs\, música\, gente—Sal y Perrea es tu sitio. Es simple. Es real. Es una gran fiesta. \nReserva VIP: Date un lujo y reserva VIP en la mejor discoteca de Playa de las Américas.
URL:https://lacentraldiscoteca.com/events/sal-y-perrea/2028-04-21/
LOCATION:La Central Disco\, Centro Comercial Starco\, Avenida Arquitecto Gómez Cuesta\, Playa de las Americas\, Arona\, Santa Cruz de Tenerife\, 38660\, Spain
CATEGORIES:Sal y Perrea
ATTACH;FMTTYPE=image/png:https://lacentraldiscoteca.com/wp-content/uploads/2026/04/file_0000000079f07246a2af648e3e76aa72.png
ORGANIZER;CN="La Central":MAILTO:Lacentral.elcentrodelritmo@gmail.com
END:VEVENT
BEGIN:VEVENT
DTSTART;TZID=UTC:20280428T230000
DTEND;TZID=UTC:20280429T060000
DTSTAMP:20260419T134300
CREATED:20260402T115903Z
LAST-MODIFIED:20260402T115903Z
UID:10004264-1840575600-1840600800@lacentraldiscoteca.com
SUMMARY:Sal y Perrea
DESCRIPTION:📅 Cada Viernes 23.00h – 06.00h \n📍 La Central \n🎟️ Entradas Early Bird – Haz clic aquí \nSal y Perrea  \nTodos los viernes\, Sal y Perrea es una gran fiesta. Reggaetón\, Afrohouse\, Latin house—sin pausas\, potente y continua. Los DJs saben lo que ponen\, saben cómo mantener la noche en movimiento sin concesiones. \nEl sonido es impecable\, la iluminación precisa\, todo pensado para que la música hable por sí sola. Sin distracciones\, sin artificios\, solo la noche. \nEs para quienes vienen a vivir la música\, a perderse en el momento y dejarse llevar. Cada track conecta con el siguiente. Cada viernes\, la noche se construye y sigue su curso. \nSal y Perrea no se monta ni se explica. Se vive. Las puertas se abren\, empieza el primer track y la noche se adueña del espacio. Es el lugar perfecto para arrancar el fin de semana\, la fiesta que siempre cumple\, todos los viernes. \nSi buscas una noche donde todo encaje—DJs\, música\, gente—Sal y Perrea es tu sitio. Es simple. Es real. Es una gran fiesta. \nReserva VIP: Date un lujo y reserva VIP en la mejor discoteca de Playa de las Américas.
URL:https://lacentraldiscoteca.com/events/sal-y-perrea/2028-04-28/
LOCATION:La Central Disco\, Centro Comercial Starco\, Avenida Arquitecto Gómez Cuesta\, Playa de las Americas\, Arona\, Santa Cruz de Tenerife\, 38660\, Spain
CATEGORIES:Sal y Perrea
ATTACH;FMTTYPE=image/png:https://lacentraldiscoteca.com/wp-content/uploads/2026/04/file_0000000079f07246a2af648e3e76aa72.png
ORGANIZER;CN="La Central":MAILTO:Lacentral.elcentrodelritmo@gmail.com
END:VEVENT
END:VCALENDAR